BEGIN:VCALENDAR
VERSION:2.0
PRODID:-//wp-events-plugin.com//7.2.3.1//EN
TZID:America/New_York
X-WR-TIMEZONE:America/New_York
BEGIN:VEVENT
UID:591@shop.wheeloflightstudio.com
DTSTART;TZID=America/New_York:20241228T130000
DTEND;TZID=America/New_York:20241228T150000
DTSTAMP:20241118T163151Z
URL:https://shop.wheeloflightstudio.com/events/snowy-train-painting-with-j
 acqui-2/
SUMMARY:Snowy Train Painting with Jacqui
DESCRIPTION:Back by popular demand!!  Tis the season!  Let's ride the rai
 l in this steam locomotive and travel through a winter wonderland. Hear th
 e whistle and wind!  Smell the smoke!  Destination?  It's up to your im
 agination!  Join me for this adventure!   We will paint step-by-step .
   You will decide how many trees are in 'your' journey.  Maybe you'll ch
 oose to decorate them for Christmas!  You are the artist.\n\nMinimum age 
 12.  No experience required.  Cost is $40 per person plus a $5 material 
 fee\, all materials will be provided. Jacqueline Whitcomb is a Certified F
 olk Art One Stroke instructor with many years’ experience.
ATTACH;FMTTYPE=image/jpeg:https://shop.wheeloflightstudio.com/wp-content/u
 ploads/2024/10/SnowyTrain.jpg
CATEGORIES:Art/Craft Classes,Class
LOCATION:Wheel of Light Studio\, 3738 Peters Mountain Rd\, Halifax\, PA\, 1
 7032\, United States
GEO:40.453438;-76.926764
X-APPLE-STRUCTURED-LOCATION;VALUE=URI;X-ADDRESS=3738 Peters Mountain Rd\, H
 alifax\, PA\, 17032\, United States;X-APPLE-RADIUS=100;X-TITLE=Wheel of Li
 ght Studio:geo:40.453438,-76.926764
END:VEVENT
BEGIN:VTIMEZONE
TZID:America/New_York
X-LIC-LOCATION:America/New_York
BEGIN:STANDARD
DTSTART:20241103T010000
TZOFFSETFROM:-0400
TZOFFSETTO:-0500
TZNAME:EST
END:STANDARD
END:VTIMEZONE
END:VCALENDAR