BEGIN:VCALENDAR
VERSION:2.0
PRODID:-//wp-events-plugin.com//7.2.3.1//EN
TZID:America/New_York
X-WR-TIMEZONE:America/New_York
BEGIN:VEVENT
UID:540@shop.wheeloflightstudio.com
DTSTART;TZID=America/New_York:20241012T130000
DTEND;TZID=America/New_York:20241012T140000
DTSTAMP:20241011T163254Z
URL:https://shop.wheeloflightstudio.com/events/pumpkin-pendant/
SUMMARY:Pumpkin Pendant
DESCRIPTION:Chainmaille is a timeless art reaching back centuries in variou
 s cultures throughout the world.  In this class\, you will learn the bas
 ic techniques of interlocking rings including the importance between diffe
 rent materials\, aspect ratio\, and the correct tools.  At the end of cl
 ass\, each attendee will have finished a Celtic Vortex pattern pendant cus
 tomized to look like a pumpkin.  Come join Sarah Boncal for a fun\, crea
 tive outing with friends or children and create everything from pumpkins t
 o Christmas wreaths.\n\n­Sarah is the half of the Bits of Serenity Jewelr
 y mother-daughter duo which specializes in chainmaille and resin jewelry.
   All materials and tools will be provided\, including many color option
 s to choose from.  Class is open to ages 15 and up\, though children as 
 young as age 12 are welcome if an accompanying adult is also registered.\n
 \n­Price:  $35 per person
ATTACH;FMTTYPE=image/jpeg:https://shop.wheeloflightstudio.com/wp-content/u
 ploads/2024/08/Pumpkins-scaled.jpg
CATEGORIES:Art/Craft Classes,Class
LOCATION:Wheel of Light Studio\, 3738 Peters Mountain Rd\, Halifax\, PA\, 1
 7032\, United States
GEO:40.453438;-76.926764
X-APPLE-STRUCTURED-LOCATION;VALUE=URI;X-ADDRESS=3738 Peters Mountain Rd\, H
 alifax\, PA\, 17032\, United States;X-APPLE-RADIUS=100;X-TITLE=Wheel of Li
 ght Studio:geo:40.453438,-76.926764
END:VEVENT
BEGIN:VTIMEZONE
TZID:America/New_York
X-LIC-LOCATION:America/New_York
BEGIN:DAYLIGHT
DTSTART:20240310T030000
TZOFFSETFROM:-0500
TZOFFSETTO:-0400
TZNAME:EDT
END:DAYLIGHT
END:VTIMEZONE
END:VCALENDAR