BEGIN:VCALENDAR
VERSION:2.0
PRODID:-//wp-events-plugin.com//7.2.3.1//EN
TZID:America/New_York
X-WR-TIMEZONE:America/New_York
BEGIN:VEVENT
UID:789@shop.wheeloflightstudio.com
DTSTART;TZID=America/New_York:20260509T103000
DTEND;TZID=America/New_York:20260509T120000
DTSTAMP:20260407T162702Z
URL:https://shop.wheeloflightstudio.com/events/mommy-and-kids-at-the-wheel
 -an-intro-to-clay/
SUMMARY:Mommy and Kids at the Wheel\, an Intro to Clay.
DESCRIPTION:Do you have a child that is curious to know what it's like to t
 hrow on a potter's wheel? Celebrate Mother's Day by sharing a clay experie
 nce with them!   This 1.5 hour class is a great way to give it a try and
  find out\, without a big commitment. Open to children age 8 and up who ar
 e big enough to sit at the wheel and work alone\, with their parent at the
  wheel next door to encourage and assist\, or a parent willing to share th
 e stool and help and learn along with their child.\n\nClass begins with a 
 focus on centering\, followed by how to open\, pull up walls\, and form a
   cylinder. Forms and functions will be introduced and demonstrated. No e
 xperience is needed. All tools and materials are provided. Depending on sk
 ill and ability\, some students may make a pot or two. After the lessons\,
  those who have made a pot they wish to keep may choose a glaze color. Wor
 k will be dried\, trimmed\, glazed and fired in the following weeks and st
 udents/parents will be contacted when their pots are ready to pick up. Thi
 s can take up to 6 weeks. Students may bring an apron or towel if they wis
 h.\n\nCost is $50 per person/wheel. If a parent is going to sit at the sam
 e wheel to assist a smaller child\, they need only book 1 seat.\n\nShort f
 ingernails are strongly recommended.\n\n\n\nCancellation and Refund Policy
ATTACH;FMTTYPE=image/jpeg:https://shop.wheeloflightstudio.com/wp-content/u
 ploads/2026/01/introwhee.jpg
CATEGORIES:Class,Clay Class
LOCATION:Wheel of Light Studio\, 3738 Peters Mountain Rd\, Halifax\, PA\, 1
 7032\, United States
GEO:40.453438;-76.926764
X-APPLE-STRUCTURED-LOCATION;VALUE=URI;X-ADDRESS=3738 Peters Mountain Rd\, H
 alifax\, PA\, 17032\, United States;X-APPLE-RADIUS=100;X-TITLE=Wheel of Li
 ght Studio:geo:40.453438,-76.926764
END:VEVENT
BEGIN:VTIMEZONE
TZID:America/New_York
X-LIC-LOCATION:America/New_York
BEGIN:DAYLIGHT
DTSTART:20260308T030000
TZOFFSETFROM:-0500
TZOFFSETTO:-0400
TZNAME:EDT
END:DAYLIGHT
END:VTIMEZONE
END:VCALENDAR