BEGIN:VCALENDAR
VERSION:2.0
PRODID:-//wp-events-plugin.com//7.2.3.1//EN
TZID:America/New_York
X-WR-TIMEZONE:America/New_York
BEGIN:VEVENT
UID:797@shop.wheeloflightstudio.com
DTSTART;TZID=America/New_York:20260512T180000
DTEND;TZID=America/New_York:20260512T200000
DTSTAMP:20260423T165341Z
URL:https://shop.wheeloflightstudio.com/events/icymi-mosaic-class/
SUMMARY:ICYMI Mosaic Class 
DESCRIPTION:Come make any mosaic you'd like! The shapes available will be: 
 Monstera Leaf\, Pennsylvania\, Blue/Pink Flower\, Apple\, Whale\, Cactus\,
  Mushroom\, Four Leaf Clover\, Peeps Bunny\, Easter Egg\, Moon\, Star\, St
 rawberry\, Watermelon\, Maple Leaf and White Evergreen.\nThis workshop wil
 l be hosted by Amanda from Mosaic Montage. This is a beginner level worksh
 op\, no prior experience is needed!\nDuring the class\, you will get to pi
 ck from all the colors of the rainbow in beautiful machine tumbled stained
  glass to create your mosaic. You will learn the basics of making a mosaic
  and about the supplies needed to create your work of art. Since the glass
  is machine tumbled\, it is sea glass smooth and safe to handle for all ag
 es. The shapes are 10” tall. You will be able to take your project home 
 with you at the end of the class.\nSome shapes have limited quantities\, s
 o it is first come\, first serve. All materials needed for this workshop w
 ill be supplied to you as part of your registration fee. Class length is a
 pproximately 2 hours.
ATTACH;FMTTYPE=image/jpeg:https://shop.wheeloflightstudio.com/wp-content/u
 ploads/2026/04/ICYMI-Mosaic-Class.jpg
CATEGORIES:Art/Craft Classes,Class
LOCATION:Wheel of Light Studio\, 3738 Peters Mountain Rd\, Halifax\, PA\, 1
 7032\, United States
GEO:40.453438;-76.926764
X-APPLE-STRUCTURED-LOCATION;VALUE=URI;X-ADDRESS=3738 Peters Mountain Rd\, H
 alifax\, PA\, 17032\, United States;X-APPLE-RADIUS=100;X-TITLE=Wheel of Li
 ght Studio:geo:40.453438,-76.926764
END:VEVENT
BEGIN:VTIMEZONE
TZID:America/New_York
X-LIC-LOCATION:America/New_York
BEGIN:DAYLIGHT
DTSTART:20260308T030000
TZOFFSETFROM:-0500
TZOFFSETTO:-0400
TZNAME:EDT
END:DAYLIGHT
END:VTIMEZONE
END:VCALENDAR