BEGIN:VCALENDAR
VERSION:2.0
PRODID:-//wp-events-plugin.com//7.2.3.1//EN
TZID:America/New_York
X-WR-TIMEZONE:America/New_York
BEGIN:VEVENT
UID:472@shop.wheeloflightstudio.com
DTSTART;TZID=America/New_York:20240525T110000
DTEND;TZID=America/New_York:20240525T130000
DTSTAMP:20240515T012909Z
URL:https://shop.wheeloflightstudio.com/events/fruit-collage/
SUMMARY:Fruit Collage
DESCRIPTION:Each participant will choose a pre-painted 8x10 canvas from a v
 ariety of colors. You will then use paper and fabric pieces to create your
  own one-of-a-kind piece of artwork. You'll be able to choose from some op
 tional embellishments such as gold leaf to further personalize your fruit 
 collage.
ATTACH;FMTTYPE=image/jpeg:https://shop.wheeloflightstudio.com/wp-content/u
 ploads/2024/05/FruitCollage-scaled-e1715108414965.jpg
CATEGORIES:Art/Craft Classes,Class
LOCATION:Wheel of Light Studio\, 3738 Peters Mountain Rd\, Halifax\, PA\, 1
 7032\, United States
GEO:40.453438;-76.926764
X-APPLE-STRUCTURED-LOCATION;VALUE=URI;X-ADDRESS=3738 Peters Mountain Rd\, H
 alifax\, PA\, 17032\, United States;X-APPLE-RADIUS=100;X-TITLE=Wheel of Li
 ght Studio:geo:40.453438,-76.926764
END:VEVENT
BEGIN:VTIMEZONE
TZID:America/New_York
X-LIC-LOCATION:America/New_York
BEGIN:DAYLIGHT
DTSTART:20240310T030000
TZOFFSETFROM:-0500
TZOFFSETTO:-0400
TZNAME:EDT
END:DAYLIGHT
END:VTIMEZONE
END:VCALENDAR