BEGIN:VCALENDAR
VERSION:2.0
PRODID:-//wp-events-plugin.com//7.2.3.1//EN
TZID:America/New_York
X-WR-TIMEZONE:America/New_York
BEGIN:VEVENT
UID:631@shop.wheeloflightstudio.com
DTSTART;TZID=America/New_York:20250329T130000
DTEND;TZID=America/New_York:20250329T150000
DTSTAMP:20250308T165909Z
URL:https://shop.wheeloflightstudio.com/events/clay-log-bird-feeders/
SUMMARY:Clay Log Bird Feeders
DESCRIPTION:Ready for another great clay craft? Join Robin in the studio to
  craft yourself a bird feeder that looks like a log. Bring your creativity
  and embellish it with moss or mushrooms or whatever you'd like to sculpt.
  We'll use a dark clay body that will look natural when fired. All materia
 ls provided\, no experience needed. Age 10 and up.
ATTACH;FMTTYPE=image/jpeg:https://shop.wheeloflightstudio.com/wp-content/u
 ploads/2025/03/LogBirdFeeders-scaled.jpg
CATEGORIES:Class,Clay Class
LOCATION:Wheel of Light Studio\, 3738 Peters Mountain Rd\, Halifax\, PA\, 1
 7032\, United States
GEO:40.453438;-76.926764
X-APPLE-STRUCTURED-LOCATION;VALUE=URI;X-ADDRESS=3738 Peters Mountain Rd\, H
 alifax\, PA\, 17032\, United States;X-APPLE-RADIUS=100;X-TITLE=Wheel of Li
 ght Studio:geo:40.453438,-76.926764
END:VEVENT
BEGIN:VTIMEZONE
TZID:America/New_York
X-LIC-LOCATION:America/New_York
BEGIN:DAYLIGHT
DTSTART:20250309T030000
TZOFFSETFROM:-0500
TZOFFSETTO:-0400
TZNAME:EDT
END:DAYLIGHT
END:VTIMEZONE
END:VCALENDAR